BEGIN:VCALENDAR
PRODID:-//kirchenweb.ch gmbh//veranstaltungsausgabe v2.0//DE
VERSION:2.0
METHOD:PUBLISH
BEGIN:VEVENT
DTSTART:20260327T173000Z
DTEND:20260327T183000Z
LOCATION:Kirche St. Josef\, \,
TRANSP:OPAQUE
SEQUENCE:0
UID:2589-veranstaltung@kath-flims-trin.ch
DTSTAMP:20260224T152900Z
DESCRIPTION:Kontakt: nadja.defilla@kath-flims-trin.ch\n\nWeitere Infos:
  https://www.kath-flims-trin.ch/veranstaltung/2589
SUMMARY:Bussandacht + Beichtgelegenheit
PRIORITY:5
X-MICROSOFT-CDO-IMPORTANCE:1
CLASS:PUBLIC
END:VEVENT
END:VCALENDAR
